BEGIN:VCALENDAR
VERSION:2.0
PRODID:-//Library Market//iCal Export//EN
BEGIN:VEVENT
SUMMARY:Adaptive Storytime
UID:37901
DTSTAMP:20260419T153800Z
DTSTART:20260602T000000Z
DTEND:20260602T003000Z
LOCATION:400 Duane St., Glen Ellyn, IL 60137, United States
ROOM: Youth Program Room
DESCRIPTION:Enjoy books, songs, and rhymes with a visual schedule and a mo
 dified environment. For kids of all ages and their grownups. 
URL:https://gepl.librarycalendar.com/event/adaptive-storytime-37901
END:VEVENT
END:VCALENDAR
