BEGIN:VCALENDAR
VERSION:2.0
PRODID:-//Library Market//iCal Export//EN
BEGIN:VEVENT
SUMMARY:Equipment Basics: Sewing Machine
UID:37477
DTSTAMP:20260426T033100Z
DTSTART:20260627T150000Z
DTEND:20260627T163000Z
LOCATION:400 Duane St., Glen Ellyn, IL 60137, United States
ROOM: The Workshop
DESCRIPTION:
URL:https://gepl.librarycalendar.com/event/equipment-basics-sewing-machine
 -37477
END:VEVENT
END:VCALENDAR
