BEGIN:VCALENDAR
VERSION:2.0
PRODID:-//Library Market//iCal Export//EN
BEGIN:VEVENT
SUMMARY:Equipment Basics: Embroidery Machine
UID:37476
DTSTAMP:20260425T032600Z
DTSTART:20260829T150000Z
DTEND:20260829T163000Z
LOCATION:400 Duane St., Glen Ellyn, IL 60137, United States
ROOM: The Workshop
DESCRIPTION:
URL:https://gepl.librarycalendar.com/event/equipment-basics-embroidery-mac
 hine-37476
END:VEVENT
END:VCALENDAR
