BEGIN:VCALENDAR
VERSION:2.0
PRODID:-//Library Market//iCal Export//EN
BEGIN:VEVENT
SUMMARY:Equipment Basics: Cricut
UID:37473
DTSTAMP:20260426T033100Z
DTSTART:20260711T150000Z
DTEND:20260711T163000Z
LOCATION:400 Duane St., Glen Ellyn, IL 60137, United States
ROOM: The Workshop
DESCRIPTION:
URL:https://gepl.librarycalendar.com/event/equipment-basics-cricut-37473
END:VEVENT
END:VCALENDAR
