BEGIN:VCALENDAR
VERSION:2.0
PRODID:-//Library Market//iCal Export//EN
BEGIN:VEVENT
SUMMARY:Laser Engrave a Picture Frame
UID:37897
DTSTAMP:20260422T120500Z
DTSTART:20260713T150000Z
DTEND:20260713T160000Z
LOCATION:400 Duane St., Glen Ellyn, IL 60137, United States
ROOM: The Workshop
DESCRIPTION:Use Canva to create a design and then use the laser to engrave
  the design onto a picture frame. 
URL:https://gepl.librarycalendar.com/index.php/event/laser-engrave-picture
 -frame-37897
END:VEVENT
END:VCALENDAR
