BEGIN:VCALENDAR
VERSION:2.0
PRODID:-//Library Market//iCal Export//EN
BEGIN:VEVENT
SUMMARY:Tech Learn ‘n Play
UID:37892
DTSTAMP:20260423T080800Z
DTSTART:20260813T193000Z
DTEND:20260813T203000Z
LOCATION:400 Duane St., Glen Ellyn, IL 60137, United States
ROOM: Youth Program Room
DESCRIPTION:
URL:https://gepl.librarycalendar.com/index.php/event/tech-learn-n-play-378
 92
END:VEVENT
END:VCALENDAR
