BEGIN:VCALENDAR
VERSION:2.0
PRODID:-//Library Market//iCal Export//EN
BEGIN:VEVENT
SUMMARY:Family Craft Night
UID:37744
DTSTAMP:20260419T132800Z
DTSTART:20260615T230000Z
DTEND:20260616T000000Z
LOCATION:400 Duane St., Glen Ellyn, IL 60137, United States
ROOM: Youth Program Room
DESCRIPTION:Drop in to create a masterpiece together as a family. For adul
 ts and kids of all ages.
URL:https://gepl.librarycalendar.com/index.php/event/family-craft-night-37
 744
END:VEVENT
END:VCALENDAR
