BEGIN:VCALENDAR
VERSION:2.0
PRODID:-//Library Market//iCal Export//EN
BEGIN:VEVENT
SUMMARY:Equipment Basics: 3D Printer
UID:37474
DTSTAMP:20260425T212800Z
DTSTART:20260718T150000Z
DTEND:20260718T163000Z
LOCATION:400 Duane St., Glen Ellyn, IL 60137, United States
ROOM: The Workshop
DESCRIPTION:
URL:https://gepl.librarycalendar.com/index.php/event/equipment-basics-3d-p
 rinter-37474
END:VEVENT
END:VCALENDAR
